BEGIN:VCALENDAR
VERSION:2.0
PRODID:-//ChamberMaster//Event Calendar 2.0//EN
METHOD:PUBLISH
X-PUBLISHED-TTL:P3D
REFRESH-INTERVAL:P3D
CALSCALE:GREGORIAN
BEGIN:VEVENT
DTSTART:20170806T003000Z
DTEND:20170806T030000Z
X-MICROSOFT-CDO-ALLDAYEVENT:FALSE
SUMMARY:10th Annual La Palma Civic Expo and National Night Out
DESCRIPTION:The City of La Palma presents the 10th annual La Palma Civic Expo\, being held in conjunction with National Night Out and the City's Concert in the Park\; Saturday\, August 5\, from 5:30 p.m. to 8:00 p.m. at La Palma's Central Park.\n\n\n\nRepresentatives from the City's various municipal departments\, emergency responders\, various service providers\, and utility organizations will be available to provide details about their services. This event is an excellent opportunity for you to learn more about your communities' government and utility services.
X-ALT-DESC;FMTTYPE=text/html:The City of La Palma presents the 10th annual La Palma Civic Expo\, being held in conjunction with National Night Out and the City&rsquo\;s Concert in the Park\; Saturday\, August 5\, from 5:30 p.m. to 8:00 p.m. at La Palma&rsquo\;s Central Park.<br />\n<br />\nRepresentatives from the City&rsquo\;s various municipal departments\, emergency responders\, various service providers\, and utility organizations will be available to provide details about their services. This event is an excellent opportunity for you to learn more about your communities&rsquo\; government and utility services.
LOCATION:Central Park 7821 Walker St. La Palma\, CA 90623
UID:e.887.16264
SEQUENCE:3
DTSTAMP:20260420T234746Z
URL:https://nocchamber-gzcms.preview.gochambermaster.com/events/details/10th-annual-la-palma-civic-expo-and-national-night-out-16264
END:VEVENT

END:VCALENDAR
