BEGIN:VCALENDAR
VERSION:2.0
PRODID:-//ChamberMaster//Event Calendar 2.0//EN
METHOD:PUBLISH
X-PUBLISHED-TTL:P3D
REFRESH-INTERVAL:P3D
CALSCALE:GREGORIAN
BEGIN:VEVENT
DTSTART:20200624T160000Z
DTEND:20200624T170000Z
X-MICROSOFT-CDO-ALLDAYEVENT:FALSE
SUMMARY:Special Dual Webinar: Social Media Ads - What To Do And How To Do It ! This is a Webinar
DESCRIPTION:What to do...\n\nTop tips for Instagram and Facebook advertising\n\nTesting\, Audience\, Re-Marketing and MORE! \n\nHow to do it \n\nEasy examples to up your photography and video to grab attention with those ads. \n\nTake away action items\, resources and strategies you can implement right away! \n\nOur best tips and techniques to get results and grow your business. \n\nGrab a cup of coffee and virtually sit down with us for a morning of motivation! \n\n\n\nPresented by Victoria Byrne and Roni Ramos. \n\nVictoria Byrne is the founder of Creative Marketing Services\, LLC. She has worked in corporate as well as small business marketing for over 18 years\, helping her clients achieve optimal results through a combination of creative and cost-effective marketing initiatives. Victoria is a Certified Constant Contact Solution Provider and regularly speaks at educational seminars & webinars where she shares tips and advice on a variety of digital marketing methods. \n\nRoni Ramos is the founder and President of Harmony 3 Productions. A tight team of creators\, from photography to video and motion graphics. Harmony 3 is sweet but with a bite like Jalape o lemonade! \n\n Attendees rave about her presentations where she shares tips\, tools\, techniques and actionable steps to use graphics and video to polish your online marketing  Roni is a great cheerleader to get small business excited about using the new technologies available to market their business.
X-ALT-DESC;FMTTYPE=text/html:<p style="margin: 0px 0px 18px\; padding: 0px\; font-family: Arial\, Helvetica\, sans-serif\; font-size: 12px\;"><span style="font-size:14px\;"><span style="font-family:arial\;"><span title=""><b>What to do...</b></span></span></span></p>\n\n<p style="margin: 0px 0px 18px\; padding: 0px\; font-family: Arial\, Helvetica\, sans-serif\; font-size: 12px\;"><span style="font-size:14px\;"><span style="font-family:arial\;"><span title="">Top tips for Instagram and Facebook advertising</span></span></span></p>\n\n<p style="margin: 0px 0px 18px\; padding: 0px\; font-family: Arial\, Helvetica\, sans-serif\; font-size: 12px\;"><span style="font-size:14px\;"><span style="font-family:arial\;"><span title="">Testing\, Audience\, Re-Marketing and MORE!&nbsp\;</span></span></span></p>\n\n<p style="margin: 0px 0px 18px\; padding: 0px\; font-family: Arial\, Helvetica\, sans-serif\; font-size: 12px\;"><span style="font-size:14px\;"><span style="font-family:arial\;"><span title=""><b>How to do it&hellip\;</b></span></span></span></p>\n\n<p style="margin: 0px 0px 18px\; padding: 0px\; font-family: Arial\, Helvetica\, sans-serif\; font-size: 12px\;"><span style="font-size:14px\;"><span style="font-family:arial\;"><span title="">Easy examples to up your photography and video to grab attention with those ads.&nbsp\;</span></span></span></p>\n\n<p style="margin: 0px 0px 18px\; padding: 0px\; font-family: Arial\, Helvetica\, sans-serif\; font-size: 12px\;"><span style="font-size:14px\;"><span style="font-family:arial\;"><span title="">Take away action items\, resources and strategies you can implement right away!&nbsp\;</span></span></span></p>\n\n<p style="margin: 0px 0px 18px\; padding: 0px\; font-family: Arial\, Helvetica\, sans-serif\; font-size: 12px\;"><span style="font-size:14px\;"><span style="font-family:arial\;"><span title="">Our best tips and techniques to get results and grow your business.&nbsp\;</span></span></span></p>\n\n<p style="margin: 0px 0px 18px\; padding: 0px\; font-family: Arial\, Helvetica\, sans-serif\; font-size: 12px\;"><span style="font-size:14px\;"><span style="font-family:arial\;"><span title="">Grab a cup of coffee and virtually sit down with us for a morning of motivation!<b style="color: rgb(0\, 120\, 193)\; font-size: 18px\;">&nbsp\;</b></span></span></span></p>\n\n<p style="margin: 0px 0px 18px\; padding: 0px\; font-family: Arial\, Helvetica\, sans-serif\; font-size: 12px\;"><br />\n<span style="font-size:14px\;"><span style="font-family:arial\;"><strong><span title="">Presented by Victoria Byrne and Roni Ramos.&nbsp\;</span></strong></span></span></p>\n\n<p style="margin: 0px 0px 18px\; padding: 0px\; font-family: Arial\, Helvetica\, sans-serif\; font-size: 12px\;"><span style="font-size:14px\;"><span style="font-family:arial\;"><span title=""><b>Victoria Byrne is the founder of Creative Marketing Services\, LLC.</b>&nbsp\;She has worked in corporate as well as small business marketing for over 18 years\, helping her clients achieve optimal results through a combination of creative and cost-effective marketing initiatives. Victoria is a Certified Constant Contact Solution Provider and regularly speaks at educational seminars &amp\; webinars where she shares tips and advice on a variety of digital marketing methods.&nbsp\;</span></span></span></p>\n\n<p style="margin: 0px 0px 18px\; padding: 0px\; font-family: Arial\, Helvetica\, sans-serif\; font-size: 12px\;"><span style="font-size:14px\;"><span style="font-family:arial\;"><span title=""><b>Roni Ramos is the founder and President of Harmony 3 Productions</b>.&nbsp\;A tight team of creators\, from photography to video and motion graphics.&nbsp\;Harmony 3 is sweet&hellip\;but with a bite&hellip\;like Jalape&ntilde\;o lemonade!&nbsp\;</span></span></span></p>\n\n<p style="margin: 0px 0px 18px\; padding: 0px\; font-family: Arial\, Helvetica\, sans-serif\; font-size: 12px\;"><span style="font-size:14px\;"><span style="font-family:arial\;"><span title="">&nbsp\;Attendees rave about her presentations&nbsp\;where she shares tips\, tools\, techniques and actionable steps to use graphics&nbsp\;and video to polish your online marketing&hellip\;&nbsp\;Roni is a great cheerleader to get small business excited&nbsp\;about using the new technologies available to market&nbsp\;their business.</span></span></span></p>\n
LOCATION:Online Webinar
UID:e.887.24425
SEQUENCE:3
DTSTAMP:20260424T135852Z
URL:http://nocchamber-gzcms.preview.gochambermaster.com/events/details/special-dual-webinar-social-media-ads-what-to-do-and-how-to-do-it-this-is-a-webinar-24425
END:VEVENT

END:VCALENDAR
