BEGIN:VCALENDAR
VERSION:2.0
PRODID:-//ChamberMaster//Event Calendar 2.0//EN
METHOD:PUBLISH
X-PUBLISHED-TTL:P3D
REFRESH-INTERVAL:P3D
CALSCALE:GREGORIAN
BEGIN:VEVENT
DTSTART:20200814T183000Z
DTEND:20200814T190000Z
X-MICROSOFT-CDO-ALLDAYEVENT:FALSE
SUMMARY:SomiSomi Soft Serve Ribbon Cutting
DESCRIPTION:Join us to celebrate the grand opening of SomiSomi in the Villa Del Sol courtyard in Downtown Fullerton.\n\n\n\nSomiSomi is one of the most talked about dessert companies in California today\, and fans everywhere recognize the gourmet style and fun atmosphere associated with our brand.\n\n\n\nAll safety protocols will be in place for this event and will be held outdoors. Please wear a mask. Thank you.
X-ALT-DESC;FMTTYPE=text/html:Join us to celebrate the grand opening of SomiSomi in the Villa Del Sol courtyard in Downtown Fullerton.<br />\n<br />\n<a href="https://www.somisomi.com" target="_blank">SomiSomi</a> is one of the most talked about dessert companies in California today\, and fans everywhere recognize the gourmet style and fun atmosphere associated with our brand.<br />\n<br />\n<strong>All safety protocols will be in place for this event and will be held outdoors.&nbsp\;Please wear a mask. Thank you.</strong>
LOCATION:SomiSomi Soft Serve In the Villa Del Sol Courtyard in Downtown Fullerton 305 N Harbor Blvd #107 Fullerton\, CA 92832
UID:e.887.24574
SEQUENCE:3
DTSTAMP:20260424T071821Z
URL:http://nocchamber-gzcms.preview.gochambermaster.com/events/details/somisomi-soft-serve-ribbon-cutting-24574
END:VEVENT

END:VCALENDAR
