BEGIN:VCALENDAR
VERSION:2.0
PRODID:-//ChamberMaster//Event Calendar 2.0//EN
METHOD:PUBLISH
X-PUBLISHED-TTL:P3D
REFRESH-INTERVAL:P3D
CALSCALE:GREGORIAN
BEGIN:VEVENT
DTSTART:20220825T160000Z
DTEND:20220825T190000Z
X-MICROSOFT-CDO-ALLDAYEVENT:FALSE
SUMMARY:SoCalEdison - 2022 Clean Energy Summit
DESCRIPTION:SCE is hosting a virtual Clean Energy Summit for business customers. Attendees will hear about California's greenhouse gas reduction goals/regulations\, learn from experts about innovative programs and technologies\, and gather best practices from customers.\n\n \n\nRegister here to reserve your virtual spot today!
X-ALT-DESC;FMTTYPE=text/html:SCE is hosting a virtual Clean Energy Summit for business customers. Attendees will hear about California&#39\;s greenhouse gas reduction goals/regulations\, learn from experts about innovative programs and technologies\, and gather best practices from customers.<br />\n&nbsp\;<br />\n<strong><a href="http://events.r20.constantcontact.com/register/event?oeidk=a07ej8dmpwk26116b5c&amp\;llr=julzi8wab" target="_blank">Register here</a></strong> to reserve your virtual spot today!
LOCATION:Virtual
UID:e.887.25498
SEQUENCE:3
DTSTAMP:20260420T112739Z
URL:http://nocchamber-gzcms.preview.gochambermaster.com/events/details/socaledison-2022-clean-energy-summit-25498
END:VEVENT

END:VCALENDAR
