BEGIN:VCALENDAR
VERSION:2.0
PRODID:-//ChamberMaster//Event Calendar 2.0//EN
METHOD:PUBLISH
X-PUBLISHED-TTL:P3D
REFRESH-INTERVAL:P3D
CALSCALE:GREGORIAN
BEGIN:VEVENT
DTSTART:20210219T173000Z
DTEND:20210219T193000Z
X-MICROSOFT-CDO-ALLDAYEVENT:FALSE
SUMMARY:SCE's 2021 Black History Month Celebration
DESCRIPTION:Southern California Edison invites you and your colleagues to join them for their annual Black History Month Celebration. Theyre planning an exciting morning of entertainment\, inspiring speakers\, recognition of business leaders and will highlight how "Black Voices Change Lives." \n\n \n\nProgram:      \n\n9:30 a.m.   10:00 a.m.   Musical Entertainment and Delicious Cooking Demonstrations from Local Chefs\n10:00 a.m.   11:30 a.m.   Speakers and Awards Presentations\, including: \n\n\n	Edison International Executive Speaker   Pedro J. Pizarro\, President\, and CEO\n	Southern California Executive Speaker   Kevin M. Payne\, President\, and CEO\n	Pre-Event Welcome   Kevin Nash\, On-Air Personality\, Founder/CEO\, Accelerated Radio Network & School of Broadcasting\n	Emcee   Christopher Schauble\, Co-Anchor\, KTLA 5 Morning News\n	Keynote Speaker   Areva Martin\, Best-Selling Author\, Award-Winning Civil Rights Attorney\, Talk Show Host\, and CNN Legal Analyst\n	Honoring businesses and community organizations across Central and Southern California for their commitment to clean energy\, community involvement\, and diversity\n\n \n\n Celebrate African American culture and the many contributions of the African American community and be inspired by speakers and entertainment. \n\nPlease register by February 19\, 2021 Here\n\nPlease note that reservations are required to receive the link to the live event.\n\n \n\nAre you a non-profit organization? If you are a non-profit and are interested in having a free virtual booth\, please complete this exhibitor request form
X-ALT-DESC;FMTTYPE=text/html:<p>Southern California Edison invites you and your colleagues to join them&nbsp\;for their annual Black History Month Celebration.&nbsp\;Theyre planning an exciting morning of entertainment\, inspiring speakers\, recognition of business leaders and will highlight how &ldquo\;Black Voices Change Lives.&rdquo\;&nbsp\;</p>\n\n<p>&nbsp\;</p>\n\n<p><strong>Program:</strong>&nbsp\;&nbsp\;&nbsp\;&nbsp\;&nbsp\;&nbsp\;<br />\n9:30 a.m. &ndash\; 10:00 a.m. &ndash\; Musical Entertainment and Delicious Cooking Demonstrations from Local Chefs</p>\n10:00 a.m. &ndash\; 11:30 a.m. &ndash\; Speakers and Awards Presentations\, including:&nbsp\;\n\n<ul>\n	<li>Edison International Executive Speaker &ndash\; Pedro J. Pizarro\, President\, and CEO</li>\n	<li>Southern California Executive Speaker &ndash\; Kevin M. Payne\, President\, and CEO</li>\n	<li>Pre-Event Welcome &ndash\; Kevin Nash\, On-Air Personality\, Founder/CEO\, Accelerated Radio Network &amp\; School of Broadcasting</li>\n	<li>Emcee &ndash\; Christopher Schauble\, Co-Anchor\, KTLA 5 Morning News</li>\n	<li>Keynote Speaker &ndash\; Areva Martin\, Best-Selling Author\, Award-Winning Civil Rights Attorney\, Talk Show Host\, and CNN Legal Analyst</li>\n	<li>Honoring businesses and community organizations across Central and Southern California for their commitment to clean energy\, community involvement\, and diversity</li>\n</ul>\n&nbsp\;\n\n<p>&nbsp\;Celebrate&nbsp\;African American culture and the many contributions of the African American community and&nbsp\;be inspired&nbsp\;by speakers and entertainment.&nbsp\;</p>\n\n<p>Please register by&nbsp\;February 19\, 2021 Here</p>\n\n<p>Please note that reservations are required to receive the link to the live event.</p>\n\n<p>&nbsp\;</p>\n\n<p><strong>Are you a non-profit organization?</strong>&nbsp\;If you are a non-profit and are interested in having a free virtual booth\, please complete <a href="http://events.r20.constantcontact.com/register/event?oeidk=a07ehgj0p4m16f1750c&amp\;llr=julzi8wab%20and" target="_blank"><strong>this exhibitor request&nbsp\;form</strong></a>&nbsp\;</p>\n
LOCATION:Via Zoom
UID:e.887.25023
SEQUENCE:3
DTSTAMP:20260423T105533Z
URL:http://nocchamber-gzcms.preview.gochambermaster.com/events/details/sce-s-2021-black-history-month-celebration-25023
END:VEVENT

END:VCALENDAR
