BEGIN:VCALENDAR
VERSION:2.0
PRODID:-//ChamberMaster//Event Calendar 2.0//EN
METHOD:PUBLISH
X-PUBLISHED-TTL:P3D
REFRESH-INTERVAL:P3D
CALSCALE:GREGORIAN
BEGIN:VEVENT
DTSTART:20200520T200000Z
DTEND:20200520T210000Z
X-MICROSOFT-CDO-ALLDAYEVENT:FALSE
SUMMARY:Oakmont Senior Living - Downsizing Seminar
DESCRIPTION:Join Oakmont Senior Living for a virtual informational presentation on downsizing with the Gentle Transitions team. They will provide expert tips and methods on downsizing your home. You will also learn how to ensure a seamless transition to a senior living community.\n\n\n\nQ&A session to follow the presentation.\n\n\n\nFor more information\, call 805-600-3277.
X-ALT-DESC;FMTTYPE=text/html:Join <a href="https://www.oakmontoffullerton.com" target="_blank">Oakmont Senior Living</a> for a virtual informational presentation on downsizing with the Gentle Transitions team. They will provide expert tips and methods on downsizing your home. You will also learn how to ensure a seamless transition to a senior living community.<br />\n<br />\nQ&amp\;A session to follow the presentation.<br />\n<br />\nFor more information\, call 805-600-3277.
LOCATION:Zoom
UID:e.887.24348
SEQUENCE:3
DTSTAMP:20260424T180855Z
URL:http://nocchamber-gzcms.preview.gochambermaster.com/events/details/oakmont-senior-living-downsizing-seminar-24348
END:VEVENT

END:VCALENDAR
