BEGIN:VCALENDAR
VERSION:2.0
PRODID:-//ChamberMaster//Event Calendar 2.0//EN
METHOD:PUBLISH
X-PUBLISHED-TTL:P3D
REFRESH-INTERVAL:P3D
CALSCALE:GREGORIAN
BEGIN:VEVENT
DTSTART:20210417T170000Z
DTEND:20210417T213000Z
X-MICROSOFT-CDO-ALLDAYEVENT:FALSE
SUMMARY:FPA Orange County: Virtual Financial Planning Day
DESCRIPTION:In celebration of April being Financial Literacy Month\, the Financial Planning Association of Orange County has organized a special day of free virtual presentations designed to help you improve your financial knowledge and circumstances. We will also offer free one-on-one financial planning sessions with Certified Financial Planner? professionals (CFP ) throughout the day so you can ask questions and receive guidance specific to your circumstances.\n\n\n\nVirtual Presentations Will Include:\n\n10:00 a.m. - Financial Health and Happiness - Feroz Ansari\,  CFP \n\n11:30 a.m. - Smart Money Decisions - Delia Fernandez\, CFP \n\n1:00 p.m. - Financial Priorities for Every Stage of Life - Mark Wilson\, APA\, CFP \n\n2:30 p.m. - Retirement Income Planning - Mark Phillips\, CFP \,AIF \n\n2:30 p.m. - Paying for College - LaurieDubchansky\, CFP \n\n\n\nFor more information and to sign up for financial planning day  presentations and one-on-one financial planning sessions\, please visit: www.FPAOCprobono.org
X-ALT-DESC;FMTTYPE=text/html:In celebration of April being Financial Literacy Month\, the Financial Planning Association of Orange County has organized a special day of free virtual presentations designed to help you improve your financial knowledge and circumstances. We will also offer free one-on-one financial planning sessions with Certified Financial Planner? professionals (CFP&reg\;) throughout the day so you can ask questions and receive guidance specific to your circumstances.<br />\n<br />\n<strong>Virtual Presentations Will Include:</strong><br />\n10:00 a.m. - Financial Health and Happiness - Feroz Ansari\,&nbsp\; CFP&reg\;<br />\n11:30 a.m. - Smart Money Decisions - Delia Fernandez\, CFP&reg\;<br />\n1:00 p.m. - Financial Priorities for Every Stage of Life - Mark Wilson\, APA\, CFP&reg\;<br />\n2:30 p.m. - Retirement Income Planning - Mark Phillips\, CFP&reg\;\,AIF&reg\;<br />\n2:30 p.m. - Paying for College - LaurieDubchansky\, CFP&reg\;<br />\n<br />\nFor more information and to sign up for financial planning day&nbsp\; presentations and one-on-one financial planning sessions\, please visit<a href="https://www.fpaoc.org/calendar/community-outreach/" target="_blank">: www.FPAOCprobono.org</a><br />\n<br />\n&nbsp\;
LOCATION:Via ZOOM Webinar
UID:e.887.25369
SEQUENCE:3
DTSTAMP:20260423T024057Z
URL:http://nocchamber-gzcms.preview.gochambermaster.com/events/details/fpa-orange-county-virtual-financial-planning-day-25369
END:VEVENT

END:VCALENDAR
