BEGIN:VCALENDAR
VERSION:2.0
PRODID:-//ChamberMaster//Event Calendar 2.0//EN
METHOD:PUBLISH
X-PUBLISHED-TTL:P3D
REFRESH-INTERVAL:P3D
CALSCALE:GREGORIAN
BEGIN:VEVENT
DTSTART:20200325T000000Z
DTEND:20200325T030000Z
X-MICROSOFT-CDO-ALLDAYEVENT:FALSE
SUMMARY:Buena Park City Council Meeting - Online
DESCRIPTION:Given the health risks associated with COVID-19\, members of the public may submit their comments and questions in writing\, for City Council consideration\, by sending them to the City Clerk at cityclerk@buenapark.com. Please submit all comments and questions by 2:00 p.m.\, on Tuesday\, March 24\, 2020. All comments and questions will be read during the meeting. View the agenda here.\n\n\n\nAll meetings of the City Council are available here\, and the City's Cable Channel BPTV Channel 3/99. Please contact the City Clerk's Office at (714) 562-3750\, for any questions. \n\n\n\nOn March 4\, 2020\, Governor Newsom proclaimed a State of Emergency in California as a result of COVID-19. The Governor issued Executive Order N-25-20\, which allows Council Members to attend City Council meetings telephonically. Please be advised that some\, or all\, of the City of Buena Park Council Members and staff may attend this meeting telephonically.\n\n \n\n	Date: 03/24/2020 5:00 PM\n	Location: Buena Park City Hall\n\n	6650 Beach Blvd\n\n	Buena Park\, California 90621
X-ALT-DESC;FMTTYPE=text/html:Given the health risks associated with COVID-19\, members of the public may submit their comments and questions in writing\, for City Council consideration\, by sending them to the City Clerk at <a href="mailto:cityclerk@buenapark.com">cityclerk@buenapark.com</a>. Please submit all comments and questions by 2:00 p.m.\, on Tuesday\, March 24\, 2020. All comments and questions will be read during the meeting. View the agenda&nbsp\;<a href="http://www.buenapark.com/city-departments/city-council/council-agenda" id="link_1584997851171" target="_blank">here</a>.<br />\n<br />\nAll meetings of the City Council are available&nbsp\;<a href="http://www.buenapark.com/city-departments/city-manager/cable-television/online-video-713" id="link_1584997794791" target="_blank">here</a>\, and the City&#39\;s Cable Channel BPTV Channel 3/99. Please contact the City Clerk&#39\;s Office at (714) 562-3750\, for any questions.&nbsp\;<br />\n<br />\nOn March 4\, 2020\, Governor Newsom proclaimed a State of Emergency in California as a result of COVID-19. The Governor issued Executive Order N-25-20\, which allows Council Members to attend City Council meetings telephonically. Please be advised that some\, or all\, of the City of Buena Park Council Members and staff may attend this meeting telephonically.<br />\n&nbsp\;\n<ul>\n	<li>Date:&nbsp\;03/24/2020 5:00 PM</li>\n	<li>Location:&nbsp\;Buena Park City Hall<br />\n	<a href="http://www.google.com/maps?f=l&amp\;hl=en&amp\;q=6650+Beach+Blvd%2c+Buena+Park%2c+California+90621" target="_blank" title="6650 Beach Blvd\nBuena Park\, California 90621">6650 Beach Blvd<br />\n	Buena Park\, California 90621</a></li>\n</ul>\n
LOCATION:Virtual -- email cityclerk@buenapark.com for more information
UID:e.887.24264
SEQUENCE:3
DTSTAMP:20260424T220545Z
URL:http://nocchamber-gzcms.preview.gochambermaster.com/events/details/buena-park-city-council-meeting-online-24264
END:VEVENT

END:VCALENDAR
